BEGIN:VCALENDAR
VERSION:2.0
PRODID:-//Midwest YOGA Magazine - ECPv6.15.11//NONSGML v1.0//EN
CALSCALE:GREGORIAN
METHOD:PUBLISH
X-WR-CALNAME:Midwest YOGA Magazine
X-ORIGINAL-URL:https://midwestyogamag.com
X-WR-CALDESC:Events for Midwest YOGA Magazine
REFRESH-INTERVAL;VALUE=DURATION:PT1H
X-Robots-Tag:noindex
X-PUBLISHED-TTL:PT1H
BEGIN:VTIMEZONE
TZID:America/Chicago
BEGIN:DAYLIGHT
TZOFFSETFROM:-0600
TZOFFSETTO:-0500
TZNAME:CDT
DTSTART:20230312T080000
END:DAYLIGHT
BEGIN:STANDARD
TZOFFSETFROM:-0500
TZOFFSETTO:-0600
TZNAME:CST
DTSTART:20231105T070000
END:STANDARD
BEGIN:DAYLIGHT
TZOFFSETFROM:-0600
TZOFFSETTO:-0500
TZNAME:CDT
DTSTART:20240310T080000
END:DAYLIGHT
BEGIN:STANDARD
TZOFFSETFROM:-0500
TZOFFSETTO:-0600
TZNAME:CST
DTSTART:20241103T070000
END:STANDARD
BEGIN:DAYLIGHT
TZOFFSETFROM:-0600
TZOFFSETTO:-0500
TZNAME:CDT
DTSTART:20250309T080000
END:DAYLIGHT
BEGIN:STANDARD
TZOFFSETFROM:-0500
TZOFFSETTO:-0600
TZNAME:CST
DTSTART:20251102T070000
END:STANDARD
END:VTIMEZONE
BEGIN:VEVENT
DTSTART;TZID=America/Chicago:20240208T150000
DTEND;TZID=America/Chicago:20240208T160000
DTSTAMP:20260421T034029
CREATED:20231227T135449Z
LAST-MODIFIED:20231227T135449Z
UID:2451-1707404400-1707408000@midwestyogamag.com
SUMMARY:Nurturing the HeartSpace
DESCRIPTION:Through the cold of Winter and the emotions of the season\, the heartspace can take a bit of a hit… In this class\, we’ll explore integrative movement to nourish our energetic heart as well as the physical space. In addition to the physical\, we’ll also pair movement with essential oils\, an affirmation and visualization practice to nurture our emotional wellbeing for the love of ourselves. A 50 minute webinar for those needing a bit of self-love and compassion for their heartspace. All are welcome. \nLink to register: https://www.backtocenterspace.com/classes
URL:https://midwestyogamag.com/event/nurturing-the-heartspace/
LOCATION:Online
END:VEVENT
END:VCALENDAR