BEGIN:VCALENDAR
VERSION:2.0
PRODID:-//Midwest YOGA Magazine - ECPv6.15.11//NONSGML v1.0//EN
CALSCALE:GREGORIAN
METHOD:PUBLISH
X-ORIGINAL-URL:https://midwestyogamag.com
X-WR-CALDESC:Events for Midwest YOGA Magazine
REFRESH-INTERVAL;VALUE=DURATION:PT1H
X-Robots-Tag:noindex
X-PUBLISHED-TTL:PT1H
BEGIN:VTIMEZONE
TZID:America/Chicago
BEGIN:DAYLIGHT
TZOFFSETFROM:-0600
TZOFFSETTO:-0500
TZNAME:CDT
DTSTART:20230312T080000
END:DAYLIGHT
BEGIN:STANDARD
TZOFFSETFROM:-0500
TZOFFSETTO:-0600
TZNAME:CST
DTSTART:20231105T070000
END:STANDARD
BEGIN:DAYLIGHT
TZOFFSETFROM:-0600
TZOFFSETTO:-0500
TZNAME:CDT
DTSTART:20240310T080000
END:DAYLIGHT
BEGIN:STANDARD
TZOFFSETFROM:-0500
TZOFFSETTO:-0600
TZNAME:CST
DTSTART:20241103T070000
END:STANDARD
BEGIN:DAYLIGHT
TZOFFSETFROM:-0600
TZOFFSETTO:-0500
TZNAME:CDT
DTSTART:20250309T080000
END:DAYLIGHT
BEGIN:STANDARD
TZOFFSETFROM:-0500
TZOFFSETTO:-0600
TZNAME:CST
DTSTART:20251102T070000
END:STANDARD
END:VTIMEZONE
BEGIN:VEVENT
DTSTART;TZID=America/Chicago:20240215T150000
DTEND;TZID=America/Chicago:20240215T160000
DTSTAMP:20260421T050918
CREATED:20231227T135859Z
LAST-MODIFIED:20231227T135859Z
UID:2455-1708009200-1708012800@midwestyogamag.com
SUMMARY:Practical Integrative Self-Care
DESCRIPTION:When discussing health and wellness\, there seems to be an ever-widening gap between the in-home practical and accessible and the modern medicine paradigm. In this 50 minute interactive webinar\, we’ll explore wellness through the lenses of Traditional Chinese Medicine and Ayurveda for ourselves. Participants will leave this class with science-backed essential oil pairings to common concerns and food practices to nourish. \nLink to register: https://www.backtocenterspace.com/classes
URL:https://midwestyogamag.com/event/practical-integrative-self-care/
LOCATION:Online
END:VEVENT
END:VCALENDAR