BEGIN:VCALENDAR
VERSION:2.0
PRODID:-//Midwest YOGA Magazine - ECPv6.15.11//NONSGML v1.0//EN
CALSCALE:GREGORIAN
METHOD:PUBLISH
X-WR-CALNAME:Midwest YOGA Magazine
X-ORIGINAL-URL:https://midwestyogamag.com
X-WR-CALDESC:Events for Midwest YOGA Magazine
REFRESH-INTERVAL;VALUE=DURATION:PT1H
X-Robots-Tag:noindex
X-PUBLISHED-TTL:PT1H
BEGIN:VTIMEZONE
TZID:America/Chicago
BEGIN:DAYLIGHT
TZOFFSETFROM:-0600
TZOFFSETTO:-0500
TZNAME:CDT
DTSTART:20230312T080000
END:DAYLIGHT
BEGIN:STANDARD
TZOFFSETFROM:-0500
TZOFFSETTO:-0600
TZNAME:CST
DTSTART:20231105T070000
END:STANDARD
BEGIN:DAYLIGHT
TZOFFSETFROM:-0600
TZOFFSETTO:-0500
TZNAME:CDT
DTSTART:20240310T080000
END:DAYLIGHT
BEGIN:STANDARD
TZOFFSETFROM:-0500
TZOFFSETTO:-0600
TZNAME:CST
DTSTART:20241103T070000
END:STANDARD
BEGIN:DAYLIGHT
TZOFFSETFROM:-0600
TZOFFSETTO:-0500
TZNAME:CDT
DTSTART:20250309T080000
END:DAYLIGHT
BEGIN:STANDARD
TZOFFSETFROM:-0500
TZOFFSETTO:-0600
TZNAME:CST
DTSTART:20251102T070000
END:STANDARD
END:VTIMEZONE
BEGIN:VEVENT
DTSTART;TZID=America/Chicago:20240223T173000
DTEND;TZID=America/Chicago:20240223T173000
DTSTAMP:20260421T032344
CREATED:20230809T201801Z
LAST-MODIFIED:20230809T201801Z
UID:1964-1708709400-1708709400@midwestyogamag.com
SUMMARY:onelove.yoga 3rd Annual Fundraising Gala
DESCRIPTION:Join us for a night of heartfelt celebration at the onelove.yoga 3rd Annual Gala Peaceful Pathways! \nAs a nonprofit organization dedicated to instilling mindfulness and yoga in schools and communities\, this event promises an unforgettable evening of joy and impact. \nEnjoy a delightful mock/cocktail hour\, followed by a scrumptious dinner and dessert. Bid on exclusive items in the silent and live auctions\, move to the beats of our DJ on the dance floor\, and make memories for a great cause. Your presence supports our mission to spread love\, growth\, and well-being. \nCome\, let’s unite in harmony on this enchanting night!
URL:https://midwestyogamag.com/event/onelove-yoga-3rd-annual-fundraising-gala/
LOCATION:MN Landscape Arboretum\, 3675 Arboretum Dr\, Chaska\, MN\, United States
END:VEVENT
END:VCALENDAR