BEGIN:VCALENDAR
VERSION:2.0
PRODID:-//Midwest YOGA Magazine - ECPv6.15.11//NONSGML v1.0//EN
CALSCALE:GREGORIAN
METHOD:PUBLISH
X-WR-CALNAME:Midwest YOGA Magazine
X-ORIGINAL-URL:https://midwestyogamag.com
X-WR-CALDESC:Events for Midwest YOGA Magazine
REFRESH-INTERVAL;VALUE=DURATION:PT1H
X-Robots-Tag:noindex
X-PUBLISHED-TTL:PT1H
BEGIN:VTIMEZONE
TZID:America/Chicago
BEGIN:DAYLIGHT
TZOFFSETFROM:-0600
TZOFFSETTO:-0500
TZNAME:CDT
DTSTART:20230312T080000
END:DAYLIGHT
BEGIN:STANDARD
TZOFFSETFROM:-0500
TZOFFSETTO:-0600
TZNAME:CST
DTSTART:20231105T070000
END:STANDARD
BEGIN:DAYLIGHT
TZOFFSETFROM:-0600
TZOFFSETTO:-0500
TZNAME:CDT
DTSTART:20240310T080000
END:DAYLIGHT
BEGIN:STANDARD
TZOFFSETFROM:-0500
TZOFFSETTO:-0600
TZNAME:CST
DTSTART:20241103T070000
END:STANDARD
BEGIN:DAYLIGHT
TZOFFSETFROM:-0600
TZOFFSETTO:-0500
TZNAME:CDT
DTSTART:20250309T080000
END:DAYLIGHT
BEGIN:STANDARD
TZOFFSETFROM:-0500
TZOFFSETTO:-0600
TZNAME:CST
DTSTART:20251102T070000
END:STANDARD
END:VTIMEZONE
BEGIN:VEVENT
DTSTART;TZID=America/Chicago:20240304T120000
DTEND;TZID=America/Chicago:20240304T130000
DTSTAMP:20260421T034008
CREATED:20240130T151103Z
LAST-MODIFIED:20240130T151103Z
UID:2670-1709553600-1709557200@midwestyogamag.com
SUMMARY:Mindful Mondays: Free Drop-In Sessions
DESCRIPTION:Mindful Mondays are free drop-in sessions held on Zoom from noon to 1 p.m. Central. Our experienced facilitators will guide you through a series of mindful movements and meditations that will leave you feeling rejuvenated. No prior experience or special clothing is necessary. \nTo increase the accessibility of Mindful Mondays\, a recording is made available to all registrants for one week after the session concludes. \nRegister at z.umn.edu/MindfulMondays
URL:https://midwestyogamag.com/event/mindful-mondays-free-drop-in-sessions-5/
LOCATION:Online
END:VEVENT
END:VCALENDAR