BEGIN:VCALENDAR
VERSION:2.0
PRODID:-//Midwest YOGA Magazine - ECPv6.15.11//NONSGML v1.0//EN
CALSCALE:GREGORIAN
METHOD:PUBLISH
X-WR-CALNAME:Midwest YOGA Magazine
X-ORIGINAL-URL:https://midwestyogamag.com
X-WR-CALDESC:Events for Midwest YOGA Magazine
REFRESH-INTERVAL;VALUE=DURATION:PT1H
X-Robots-Tag:noindex
X-PUBLISHED-TTL:PT1H
BEGIN:VTIMEZONE
TZID:America/Chicago
BEGIN:DAYLIGHT
TZOFFSETFROM:-0600
TZOFFSETTO:-0500
TZNAME:CDT
DTSTART:20230312T080000
END:DAYLIGHT
BEGIN:STANDARD
TZOFFSETFROM:-0500
TZOFFSETTO:-0600
TZNAME:CST
DTSTART:20231105T070000
END:STANDARD
BEGIN:DAYLIGHT
TZOFFSETFROM:-0600
TZOFFSETTO:-0500
TZNAME:CDT
DTSTART:20240310T080000
END:DAYLIGHT
BEGIN:STANDARD
TZOFFSETFROM:-0500
TZOFFSETTO:-0600
TZNAME:CST
DTSTART:20241103T070000
END:STANDARD
BEGIN:DAYLIGHT
TZOFFSETFROM:-0600
TZOFFSETTO:-0500
TZNAME:CDT
DTSTART:20250309T080000
END:DAYLIGHT
BEGIN:STANDARD
TZOFFSETFROM:-0500
TZOFFSETTO:-0600
TZNAME:CST
DTSTART:20251102T070000
END:STANDARD
END:VTIMEZONE
BEGIN:VEVENT
DTSTART;TZID=America/Chicago:20240314T150000
DTEND;TZID=America/Chicago:20240314T160000
DTSTAMP:20260421T034121
CREATED:20231227T140850Z
LAST-MODIFIED:20231227T140850Z
UID:2462-1710428400-1710432000@midwestyogamag.com
SUMMARY:Balancing the Ayurvedic Dosha-Spring (1 CEU)
DESCRIPTION:The end of Winter into Spring marks the Kapha time of year\, a season for mud in both Nature and an imbalanced body. Let’s prepare ourselves for a more helpful and health-full transition to the season through balancing the body with Ayurvedic practices and concepts. \nThis 50 minute webinar will explore nutritive physical practices\, nourishing food-based concepts and pairings with herbs and spices to support us to and through the season. 1 CEU available to RYTs through YA \nLink to register: https://www.backtocenterspace.com/classes
URL:https://midwestyogamag.com/event/balancing-the-ayurvedic-dosha-spring-1-ceu-2/
LOCATION:Online
END:VEVENT
END:VCALENDAR