BEGIN:VCALENDAR
VERSION:2.0
PRODID:-//Midwest YOGA Magazine - ECPv6.15.11//NONSGML v1.0//EN
CALSCALE:GREGORIAN
METHOD:PUBLISH
X-WR-CALNAME:Midwest YOGA Magazine
X-ORIGINAL-URL:https://midwestyogamag.com
X-WR-CALDESC:Events for Midwest YOGA Magazine
REFRESH-INTERVAL;VALUE=DURATION:PT1H
X-Robots-Tag:noindex
X-PUBLISHED-TTL:PT1H
BEGIN:VTIMEZONE
TZID:America/Chicago
BEGIN:DAYLIGHT
TZOFFSETFROM:-0600
TZOFFSETTO:-0500
TZNAME:CDT
DTSTART:20210314T080000
END:DAYLIGHT
BEGIN:STANDARD
TZOFFSETFROM:-0500
TZOFFSETTO:-0600
TZNAME:CST
DTSTART:20211107T070000
END:STANDARD
BEGIN:DAYLIGHT
TZOFFSETFROM:-0600
TZOFFSETTO:-0500
TZNAME:CDT
DTSTART:20220313T080000
END:DAYLIGHT
BEGIN:STANDARD
TZOFFSETFROM:-0500
TZOFFSETTO:-0600
TZNAME:CST
DTSTART:20221106T070000
END:STANDARD
BEGIN:DAYLIGHT
TZOFFSETFROM:-0600
TZOFFSETTO:-0500
TZNAME:CDT
DTSTART:20230312T080000
END:DAYLIGHT
BEGIN:STANDARD
TZOFFSETFROM:-0500
TZOFFSETTO:-0600
TZNAME:CST
DTSTART:20231105T070000
END:STANDARD
END:VTIMEZONE
BEGIN:VEVENT
DTSTART;TZID=America/Chicago:20220310T170000
DTEND;TZID=America/Chicago:20220310T183000
DTSTAMP:20260422T063846
CREATED:20220303T193609Z
LAST-MODIFIED:20220303T193609Z
UID:580-1646931600-1646937000@midwestyogamag.com
SUMMARY:ONLINE: What's Up Down There?! Pelvic Floor & Core Health Registration Series
DESCRIPTION:Thursdays March 3\, 10\, (SKIP 17th)\, 24\, 31 \n\n\nThe female pelvic floor is a topic that greatly affects women’s health and well-being\, yet we rarely speak about what is going on “Down There”! \n\n\nJoin us for this series where we discuss the anatomy of the pelvic floor and the “inner core” muscles\, learn exercises to release\, stabilize\, and then strengthen this vital center. We believe we can improve the functioning of the pelvic floor as we age; now that’s aging gracefully! Join us for one of the simplest\, yet effective insurance policies for your health. \n\n5:00-6:30pm \n\n\nThursdays March 3\, 10\, (SKIP 17th)\, 24\, 31 ON ZOOM \n\n\n$97 for senior/student/military/alumni\, $108 for regular priced series
URL:https://midwestyogamag.com/event/online-whats-up-down-there-pelvic-floor-core-health-registration-series-2/
LOCATION:ZOOM\, Virtual\, MN\, United States
END:VEVENT
BEGIN:VEVENT
DTSTART;TZID=America/Chicago:20220303T170000
DTEND;TZID=America/Chicago:20220303T183000
DTSTAMP:20260422T063846
CREATED:20220303T193132Z
LAST-MODIFIED:20220303T193241Z
UID:574-1646326800-1646332200@midwestyogamag.com
SUMMARY:ONLINE: What's Up Down There?! Pelvic Floor & Core Health Registration Series
DESCRIPTION:Thursdays March 3\, 10\, (SKIP 17th)\, 24\, 31 \n\n\nThe female pelvic floor is a topic that greatly affects women’s health and well-being\, yet we rarely speak about what is going on “Down There”! \n\n\nJoin us for this series where we discuss the anatomy of the pelvic floor and the “inner core” muscles\, learn exercises to release\, stabilize\, and then strengthen this vital center. We believe we can improve the functioning of the pelvic floor as we age; now that’s aging gracefully! Join us for one of the simplest\, yet effective insurance policies for your health. \n\n5:00-6:30pm \n\n\nThursdays March 3\, 10\, (SKIP 17th)\, 24\, 31 ON ZOOM \n\n\n$97 for senior/student/military/alumni\, $108 for regular priced series
URL:https://midwestyogamag.com/event/online-whats-up-down-there-pelvic-floor-core-health-registration-series/
LOCATION:ZOOM\, Virtual\, MN\, United States
END:VEVENT
BEGIN:VEVENT
DTSTART;TZID=America/Chicago:20220303T080000
DTEND;TZID=America/Chicago:20220303T170000
DTSTAMP:20260422T063846
CREATED:20220303T194839Z
LAST-MODIFIED:20220303T194839Z
UID:590-1646294400-1646326800@midwestyogamag.com
SUMMARY:Our Magic Breath
DESCRIPTION:Pranayama- breathing techniques\nSaturday April 23 9am-11am\nLive online zoom workshop \n\n\n$35 \n\n\n$30 for patreon members \n\n\nhttps://bit.ly/3Loa1D8 \n\n\nWe carry with us a powerful tool. One that can not only relieve stress\, improve sleep but also balance our body/mind. It is our BREATH. Experience the magic your breath holds. Join me in this workshop to experience various pranayama practices.
URL:https://midwestyogamag.com/event/our-magic-breath/
LOCATION:MI
END:VEVENT
END:VCALENDAR